BEGIN:VCALENDAR
VERSION:2.0
PRODID:icalendar-ruby
CALSCALE:GREGORIAN
METHOD:PUBLISH
BEGIN:VEVENT
DTSTAMP:20260419T235700Z
UID:21-1761132@shadyoaks.org
DTSTART:20261007T233000Z
DTEND:20261008T003000Z
CLASS:PUBLIC
CREATED:20260419T183459
DESCRIPTION:The Oak Student Ministry
LAST-MODIFIED:20260419T183459
LOCATION:
SUMMARY:The Oak Student Ministry
URL;VALUE=URI:https://shadyoaks.org/events/the-oak-student-ministry/2026-10
 -07
ATTACH;FILENAME=theoak-multi.jpg;FMTTYPE=image/jpeg:https://dq5pwpg1q8ru0.c
 loudfront.net/2024/01/02/11/52/41/325aad13-c44b-42d6-bd05-5c84b2797f98/the
 oak-multi.jpg
END:VEVENT
END:VCALENDAR
