BEGIN:VCALENDAR
VERSION:2.0
PRODID:icalendar-ruby
CALSCALE:GREGORIAN
METHOD:PUBLISH
BEGIN:VEVENT
DTSTAMP:20260419T233941Z
UID:7-1760429@shadyoaks.org
DTSTART:20261018T143000Z
DTEND:20261018T153000Z
CLASS:PUBLIC
CREATED:20260419T183458
DESCRIPTION:Morning Worship
LAST-MODIFIED:20260419T183458
LOCATION:
SUMMARY:Morning Worship
URL;VALUE=URI:https://shadyoaks.org/events/morning-worship/2026-10-18
END:VEVENT
END:VCALENDAR
