BEGIN:VCALENDAR
VERSION:2.0
PRODID:icalendar-ruby
CALSCALE:GREGORIAN
METHOD:PUBLISH
BEGIN:VEVENT
DTSTAMP:20260419T222910Z
UID:17-1759712@shadyoaks.org
DTSTART:20261021T223000Z
DTEND:20261021T233000Z
CLASS:PUBLIC
CREATED:20260419T145217
DESCRIPTION:MidWeek Family Fellowship\nWe will have Chick-Fil-A on the firs
 t Wednesday of each month. Meals must be paid for in advance. On the other
  Wednesdays\, bring your dinner and join your church family for fellowship
  in the Commons Area.\n$8.00/person\nSign up below for Chick-Fil-A:\n \n\
 n\n\n
LAST-MODIFIED:20260419T145217
LOCATION:
SUMMARY:MidWeek Fellowship
URL;VALUE=URI:https://shadyoaks.org/events/midweek-fellowship/2026-10-21
END:VEVENT
END:VCALENDAR
